BEGIN:VCALENDAR
VERSION:2.0
PRODID:-//wp-events-plugin.com//7.2.3.1//EN
TZID:Europe/Paris
X-WR-TIMEZONE:Europe/Paris
BEGIN:VEVENT
UID:5@rouenseafarerscentre.fr
DTSTART;TZID=Europe/Paris:20230611T093000
DTEND;TZID=Europe/Paris:20230611T190000
DTSTAMP:20221020T120541Z
URL:https://rouenseafarerscentre.fr/1/lady-arlette/
SUMMARY:LADY ARLETTE
DESCRIPTION:En plus de 10 ans sur la scène chanson\, Lady Arlette c’est 
 7 albums\, 3 livres\, des centaines de concerts\, 3 spectacles avec des tr
 oupes de théâtre … et ça n’est pas fini !\nElle s’invite à bord 
 et s’installe\, la poésie en bandoulière …\n\n« dotée du superpouv
 oir derefroidir le climat anxiogène ambiant\, « aime tout le monde" et s
 e fait un plaisir d’ouvrir les portes de son univers parallèle peuplé 
 de paroles et de musiques si personnelles.\nImaginaire sans limites\, amou
 r immodéré du jeu avec la langue française\, textes ciselés intimistes
  à souhait et mélodies attachantes : le temps n’a pas prise sur le sty
 le\nde "LA"\, entre l’énergie du rock dentelle et la douceur de la pop-
 poésie avec sa fameuse guitare Gretsch blanche.\n\nQui d’autre que Lady
  Arlette peut décréter "Lave-toi les dents avec ton âme"\, se demander 
 "A quoi pensent les escaliers ?" ou "Est-ce qu’on vieillit plus vite qua
 nd on va\ntout droit ?". Les doigts dans la prise et la tête dans les ét
 oiles\, ainsi va la First Lady de Rouen depuis Annabelle lurette.\n\n(Fabr
 ice. Coraichon – Rouen Mag)\n\n[embed]https://youtu.be/hZL-lEVJZr0?t=14[
 /embed]\n\nAvec : Clémence Denoyer (basse)\, Paolo Consiglio (guitare) et
  Valentin Hébert (batterie)
CATEGORIES:Arts et Culture
LOCATION:Seamen's Club Rouen (A bord)\, 16 rue Duguay-Trouin\, Rouen\, Haut
 e-Normandie\, 76000\, Seine-Maritime\, France
X-APPLE-STRUCTURED-LOCATION;VALUE=URI;X-ADDRESS=16 rue Duguay-Trouin\, Roue
 n\, Haute-Normandie\, 76000\, Seine-Maritime\, France;X-APPLE-RADIUS=100;X
 -TITLE=Seamen's Club Rouen (A bord):geo:0,0
END:VEVENT
BEGIN:VTIMEZONE
TZID:Europe/Paris
X-LIC-LOCATION:Europe/Paris
BEGIN:DAYLIGHT
DTSTART:20230326T030000
TZOFFSETFROM:+0100
TZOFFSETTO:+0200
TZNAME:CEST
END:DAYLIGHT
END:VTIMEZONE
END:VCALENDAR